BEGIN:VCALENDAR
PRODID:-//Microsoft Corporation//Outlook MIMEDIR//EN
VERSION:2.0
METHOD:PUBLISH
BEGIN:VEVENT
DTSTART:20260709T180000
DTEND:20260709T190000
DESCRIPTION:
LOCATION:Commission Chambers and Zoom.us Webinar ID:
SUMMARY:Community Redevelopment Agency
CATEGORIES:MEETING
END:VEVENT
END:VCALENDAR
