BEGIN:VCALENDAR
PRODID:-//Microsoft Corporation//Outlook MIMEDIR//EN
VERSION:2.0
METHOD:PUBLISH
BEGIN:VEVENT
DTSTART:20260715T100000
DTEND:20260715T110000
DESCRIPTION:
LOCATION:Commission Chambers
SUMMARY:City Commission Budget Workshop
CATEGORIES:MEETING
END:VEVENT
END:VCALENDAR
