BEGIN:VCALENDAR
PRODID:-//Microsoft Corporation//Outlook MIMEDIR//EN
VERSION:2.0
METHOD:PUBLISH
BEGIN:VEVENT
DTSTART:20260609T100000
DTEND:20260609T110000
DESCRIPTION:
LOCATION:Development Services Department and Zoom.us Webinar ID:   Meeting held at 901 NW 66th Avenue,  Margate, FL 33063
SUMMARY:Development Review Committee
CATEGORIES:MEETING
END:VEVENT
END:VCALENDAR
