BEGIN:VCALENDAR
PRODID:-//Microsoft Corporation//Outlook MIMEDIR//EN
VERSION:2.0
METHOD:PUBLISH
BEGIN:VEVENT
DTSTART:20260701T183000
DTEND:20260701T193000
DESCRIPTION:
LOCATION:Commission Chambers and Zoom.us Webinar ID:
SUMMARY:Regular City Commission Meeting
CATEGORIES:MEETING
END:VEVENT
END:VCALENDAR
