BEGIN:VCALENDAR
PRODID:-//Microsoft Corporation//Outlook MIMEDIR//EN
VERSION:2.0
METHOD:PUBLISH
BEGIN:VEVENT
DTSTART:20260511T120000
DTEND:20260511T130000
DESCRIPTION:
LOCATION:Coconut Creek Community Center, 1100 Lyons Road, Coconut Creek, FL 33063
SUMMARY:Northwest Council of Elected Officials Meeting
CATEGORIES:MEETING
END:VEVENT
END:VCALENDAR
