BEGIN:VCALENDAR
PRODID:-//Microsoft Corporation//Outlook MIMEDIR//EN
VERSION:2.0
METHOD:PUBLISH
BEGIN:VEVENT
DTSTART:20260623T140000
DTEND:20260623T150000
DESCRIPTION:
LOCATION:Commission Chambers
SUMMARY:Special Magistrate
CATEGORIES:MEETING
END:VEVENT
END:VCALENDAR
